BEGIN:VCALENDAR
VERSION:2.0
PRODID:-//Markedspartner//HubSpot Event Export//EN
CALSCALE:GREGORIAN
METHOD:PUBLISH
BEGIN:VEVENT
UID:hubspot-2-39126766-144075175119@markedspartner.no
DTSTAMP:20260420T094310Z
DTSTART:20250517T061500Z
DTEND:20250517T073000Z
SUMMARY:Egils testkonferanse 2025
END:VEVENT
END:VCALENDAR
