BEGIN:VCALENDAR
VERSION:2.0
PRODID:-//Markedspartner//HubSpot Event Export//EN
CALSCALE:GREGORIAN
METHOD:PUBLISH
BEGIN:VEVENT
UID:hubspot-2-39126766-147577361640@markedspartner.no
DTSTAMP:20260419T192128Z
DTSTART:20250611T160000Z
DTEND:20250611T200000Z
SUMMARY:Treffpunkt Ryfylke med middag: Vi besøker IKM Aquamarine
END:VEVENT
END:VCALENDAR
