BEGIN:VCALENDAR
VERSION:2.0
PRODID:-//Markedspartner//HubSpot Event Export//EN
CALSCALE:GREGORIAN
METHOD:PUBLISH
BEGIN:VEVENT
UID:hubspot-2-39126766-162548178159@markedspartner.no
DTSTAMP:20260419T192016Z
DTSTART:20250826T060000Z
DTEND:20250826T094500Z
SUMMARY:Eksportkonferansen 2025: Hva nå\, Europa?
END:VEVENT
END:VCALENDAR
