BEGIN:VCALENDAR
VERSION:2.0
PRODID:-//Markedspartner//HubSpot Event Export//EN
CALSCALE:GREGORIAN
METHOD:PUBLISH
BEGIN:VEVENT
UID:hubspot-2-39126766-162548181205@markedspartner.no
DTSTAMP:20260419T164950Z
DTSTART:20250829T090000Z
DTEND:20250829T110000Z
SUMMARY:Lederskolen: Gjør KI til din beste kollega
END:VEVENT
END:VCALENDAR
