BEGIN:VCALENDAR
VERSION:2.0
PRODID:-//Markedspartner//HubSpot Event Export//EN
CALSCALE:GREGORIAN
METHOD:PUBLISH
BEGIN:VEVENT
UID:hubspot-2-39126766-162548201690@markedspartner.no
DTSTAMP:20260419T164923Z
DTSTART:20250904T163000Z
DTEND:20250904T200000Z
SUMMARY:Attractive financial hub
END:VEVENT
END:VCALENDAR
