BEGIN:VCALENDAR
VERSION:2.0
PRODID:-//Markedspartner//HubSpot Event Export//EN
CALSCALE:GREGORIAN
METHOD:PUBLISH
BEGIN:VEVENT
UID:hubspot-2-39126766-162548231417@markedspartner.no
DTSTAMP:20260419T192134Z
DTSTART:20250812T160000Z
DTEND:20250812T210000Z
SUMMARY:Den store vestlandskvelden
END:VEVENT
END:VCALENDAR
