BEGIN:VCALENDAR
VERSION:2.0
PRODID:-//Markedspartner//HubSpot Event Export//EN
CALSCALE:GREGORIAN
METHOD:PUBLISH
BEGIN:VEVENT
UID:hubspot-2-39126766-164277132525@markedspartner.no
DTSTAMP:20260420T041121Z
DTSTART:20250813T173000Z
DTEND:20250813T203000Z
SUMMARY:Havbruksnæringens kveld under Arendalsuka
END:VEVENT
END:VCALENDAR
