BEGIN:VCALENDAR
VERSION:2.0
PRODID:-//Markedspartner//HubSpot Event Export//EN
CALSCALE:GREGORIAN
METHOD:PUBLISH
BEGIN:VEVENT
UID:hubspot-2-39126766-165111939306@markedspartner.no
DTSTAMP:20260419T164950Z
DTSTART:20250918T100000Z
DTEND:20250918T180000Z
SUMMARY:Velkommen til Pionér 2025
END:VEVENT
END:VCALENDAR
