BEGIN:VCALENDAR
VERSION:2.0
PRODID:-//Markedspartner//HubSpot Event Export//EN
CALSCALE:GREGORIAN
METHOD:PUBLISH
BEGIN:VEVENT
UID:hubspot-2-39126766-166387121360@markedspartner.no
DTSTAMP:20260420T041124Z
DTSTART:20250918T160000Z
DTEND:20250918T190000Z
SUMMARY:Treffpunkt Jæren: Kalberg-området
END:VEVENT
END:VCALENDAR
