BEGIN:VCALENDAR
VERSION:2.0
PRODID:-//Markedspartner//HubSpot Event Export//EN
CALSCALE:GREGORIAN
METHOD:PUBLISH
BEGIN:VEVENT
UID:hubspot-2-39126766-170429459678@markedspartner.no
DTSTAMP:20260419T192127Z
DTSTART:20250924T153000Z
DTEND:20250924T210000Z
SUMMARY:Tungenesmøtet 2025
END:VEVENT
END:VCALENDAR
