BEGIN:VCALENDAR
VERSION:2.0
PRODID:-//Markedspartner//HubSpot Event Export//EN
CALSCALE:GREGORIAN
METHOD:PUBLISH
BEGIN:VEVENT
UID:hubspot-2-39126766-170429459705@markedspartner.no
DTSTAMP:20260419T192017Z
DTSTART:20260319T110000Z
DTEND:20260319T220000Z
SUMMARY:JÆRMØTET: Konferanse og festkveld
END:VEVENT
END:VCALENDAR
