BEGIN:VCALENDAR
VERSION:2.0
PRODID:-//Markedspartner//HubSpot Event Export//EN
CALSCALE:GREGORIAN
METHOD:PUBLISH
BEGIN:VEVENT
UID:hubspot-2-39126766-170714116307@markedspartner.no
DTSTAMP:20260419T173219Z
DTSTART:20250904T160000Z
DTEND:20250904T200000Z
SUMMARY:U37 Back to work
END:VEVENT
END:VCALENDAR
