BEGIN:VCALENDAR
VERSION:2.0
PRODID:-//Markedspartner//HubSpot Event Export//EN
CALSCALE:GREGORIAN
METHOD:PUBLISH
BEGIN:VEVENT
UID:hubspot-2-39126766-170714116317@markedspartner.no
DTSTAMP:20260419T164948Z
DTSTART:20251023T060000Z
DTEND:20251023T100000Z
SUMMARY:Sandneskonferansen 2025
END:VEVENT
END:VCALENDAR
