BEGIN:VCALENDAR
VERSION:2.0
PRODID:-//Markedspartner//HubSpot Event Export//EN
CALSCALE:GREGORIAN
METHOD:PUBLISH
BEGIN:VEVENT
UID:hubspot-2-39126766-170714116320@markedspartner.no
DTSTAMP:20260420T041237Z
DTSTART:20251104T070000Z
DTEND:20251104T133000Z
SUMMARY:Logistikkdagen 2025
END:VEVENT
END:VCALENDAR
