BEGIN:VCALENDAR
VERSION:2.0
PRODID:-//Markedspartner//HubSpot Event Export//EN
CALSCALE:GREGORIAN
METHOD:PUBLISH
BEGIN:VEVENT
UID:hubspot-2-39126766-171424738534@markedspartner.no
DTSTAMP:20260419T192127Z
DTSTART:20250926T090000Z
DTEND:20250926T110000Z
SUMMARY:Lederskolen med Odd Arne Nissestad
END:VEVENT
END:VCALENDAR
