BEGIN:VCALENDAR
VERSION:2.0
PRODID:-//Markedspartner//HubSpot Event Export//EN
CALSCALE:GREGORIAN
METHOD:PUBLISH
BEGIN:VEVENT
UID:hubspot-2-39126766-171688169685@markedspartner.no
DTSTAMP:20260419T164949Z
DTSTART:20251128T100000Z
DTEND:20251128T120000Z
SUMMARY:Lederskolen med Jan Ketil Arnulf
END:VEVENT
END:VCALENDAR
