BEGIN:VCALENDAR
VERSION:2.0
PRODID:-//Markedspartner//HubSpot Event Export//EN
CALSCALE:GREGORIAN
METHOD:PUBLISH
BEGIN:VEVENT
UID:hubspot-2-39126766-172361367755@markedspartner.no
DTSTAMP:20260419T192134Z
DTSTART:20250911T070000Z
DTEND:20250912T120000Z
SUMMARY:H2 conference Norway 
END:VEVENT
END:VCALENDAR
