BEGIN:VCALENDAR
VERSION:2.0
PRODID:-//Markedspartner//HubSpot Event Export//EN
CALSCALE:GREGORIAN
METHOD:PUBLISH
BEGIN:VEVENT
UID:hubspot-2-39126766-173423452379@markedspartner.no
DTSTAMP:20260419T164920Z
DTSTART:20251024T060000Z
DTEND:20251024T083000Z
SUMMARY:B2B: Nettverksfrokost for næringslivet
END:VEVENT
END:VCALENDAR
