BEGIN:VCALENDAR
VERSION:2.0
PRODID:-//Markedspartner//HubSpot Event Export//EN
CALSCALE:GREGORIAN
METHOD:PUBLISH
BEGIN:VEVENT
UID:hubspot-2-39126766-173423455424@markedspartner.no
DTSTAMP:20260422T092516Z
DTSTART:20251205T073000Z
DTEND:20251205T093000Z
SUMMARY:B2B Nettverksfrokost for nye medlemmer
END:VEVENT
END:VCALENDAR
