BEGIN:VCALENDAR
VERSION:2.0
PRODID:-//Markedspartner//HubSpot Event Export//EN
CALSCALE:GREGORIAN
METHOD:PUBLISH
BEGIN:VEVENT
UID:hubspot-2-39126766-173423460570@markedspartner.no
DTSTAMP:20260419T164948Z
DTSTART:20250903T063000Z
DTEND:20250903T133000Z
SUMMARY:Area Orientation
END:VEVENT
END:VCALENDAR
