BEGIN:VCALENDAR
VERSION:2.0
PRODID:-//Markedspartner//HubSpot Event Export//EN
CALSCALE:GREGORIAN
METHOD:PUBLISH
BEGIN:VEVENT
UID:hubspot-2-39126766-173487991022@markedspartner.no
DTSTAMP:20260419T164921Z
DTSTART:20250903T160000Z
DTEND:20250903T200000Z
SUMMARY:Næringsforeningens sommerfest i Dalane
END:VEVENT
END:VCALENDAR
