BEGIN:VCALENDAR
VERSION:2.0
PRODID:-//Markedspartner//HubSpot Event Export//EN
CALSCALE:GREGORIAN
METHOD:PUBLISH
BEGIN:VEVENT
UID:hubspot-2-39126766-173795195117@markedspartner.no
DTSTAMP:20260419T192134Z
DTSTART:20250912T063000Z
DTEND:20250912T083000Z
SUMMARY:B2B Nettverksfrokost for nye bedriftsmedlemmer
END:VEVENT
END:VCALENDAR
