BEGIN:VCALENDAR
VERSION:2.0
PRODID:-//Markedspartner//HubSpot Event Export//EN
CALSCALE:GREGORIAN
METHOD:PUBLISH
BEGIN:VEVENT
UID:hubspot-2-39126766-173795197116@markedspartner.no
DTSTAMP:20260419T192126Z
DTSTART:20251107T080000Z
DTEND:20251107T140000Z
SUMMARY:Lederkonferansen FOLK 2025
END:VEVENT
END:VCALENDAR
