BEGIN:VCALENDAR
VERSION:2.0
PRODID:-//Markedspartner//HubSpot Event Export//EN
CALSCALE:GREGORIAN
METHOD:PUBLISH
BEGIN:VEVENT
UID:hubspot-2-39126766-173874199765@markedspartner.no
DTSTAMP:20260419T164924Z
DTSTART:20251002T090000Z
DTEND:20251002T180000Z
SUMMARY:BOLIGKONFERANSEN 2025: Marked\, dyrtid og Storbyen 2.0
END:VEVENT
END:VCALENDAR
