BEGIN:VCALENDAR
VERSION:2.0
PRODID:-//Markedspartner//HubSpot Event Export//EN
CALSCALE:GREGORIAN
METHOD:PUBLISH
BEGIN:VEVENT
UID:hubspot-2-39126766-174530874604@markedspartner.no
DTSTAMP:20260419T164924Z
DTSTART:20251002T061500Z
DTEND:20251002T103000Z
SUMMARY:Beredskap i en ny verden: Dette må din bedrift ha kontroll på nå!
END:VEVENT
END:VCALENDAR
