BEGIN:VCALENDAR
VERSION:2.0
PRODID:-//Markedspartner//HubSpot Event Export//EN
CALSCALE:GREGORIAN
METHOD:PUBLISH
BEGIN:VEVENT
UID:hubspot-2-39126766-175276013794@markedspartner.no
DTSTAMP:20260419T164920Z
DTSTART:20251022T080000Z
DTEND:20251023T123000Z
SUMMARY:Ryfylkekonferansen – Arena MOR 2025
END:VEVENT
END:VCALENDAR
