BEGIN:VCALENDAR
VERSION:2.0
PRODID:-//Markedspartner//HubSpot Event Export//EN
CALSCALE:GREGORIAN
METHOD:PUBLISH
BEGIN:VEVENT
UID:hubspot-2-39126766-175461757151@markedspartner.no
DTSTAMP:20260419T192128Z
DTSTART:20250916T160000Z
DTEND:20250916T183000Z
SUMMARY:Bygg- og anleggsanalysen 2025: Dette er trendene
END:VEVENT
END:VCALENDAR
