BEGIN:VCALENDAR
VERSION:2.0
PRODID:-//Markedspartner//HubSpot Event Export//EN
CALSCALE:GREGORIAN
METHOD:PUBLISH
BEGIN:VEVENT
UID:hubspot-2-39126766-177440149750@markedspartner.no
DTSTAMP:20260419T192126Z
DTSTART:20250828T160000Z
DTEND:20250828T190000Z
SUMMARY:Valgmøte: Næringspolitikk for Jæren
END:VEVENT
END:VCALENDAR
