BEGIN:VCALENDAR
VERSION:2.0
PRODID:-//Markedspartner//HubSpot Event Export//EN
CALSCALE:GREGORIAN
METHOD:PUBLISH
BEGIN:VEVENT
UID:hubspot-2-39126766-177440150751@markedspartner.no
DTSTAMP:20260419T192018Z
DTSTART:20250910T130000Z
DTEND:20250910T200000Z
SUMMARY:Treffpunkt Øyane: Eksklusiv båttur med bedriftsbesøk
END:VEVENT
END:VCALENDAR
