BEGIN:VCALENDAR
VERSION:2.0
PRODID:-//Markedspartner//HubSpot Event Export//EN
CALSCALE:GREGORIAN
METHOD:PUBLISH
BEGIN:VEVENT
UID:hubspot-2-39126766-177440166093@markedspartner.no
DTSTAMP:20260419T233808Z
DTSTART:20251028T170000Z
DTEND:20251028T190000Z
SUMMARY:Tech Night at Aker Solutions
END:VEVENT
END:VCALENDAR
