BEGIN:VCALENDAR
VERSION:2.0
PRODID:-//Markedspartner//HubSpot Event Export//EN
CALSCALE:GREGORIAN
METHOD:PUBLISH
BEGIN:VEVENT
UID:hubspot-2-39126766-177440187634@markedspartner.no
DTSTAMP:20260419T164917Z
DTSTART:20250916T064500Z
DTEND:20250916T081500Z
SUMMARY:Job Search and Career: Optimize your CV
END:VEVENT
END:VCALENDAR
