BEGIN:VCALENDAR
VERSION:2.0
PRODID:-//Markedspartner//HubSpot Event Export//EN
CALSCALE:GREGORIAN
METHOD:PUBLISH
BEGIN:VEVENT
UID:hubspot-2-39126766-177440201942@markedspartner.no
DTSTAMP:20260419T192127Z
DTSTART:20260115T080000Z
DTEND:20260115T140000Z
SUMMARY:Arbeidsrettseminaret 2026
END:VEVENT
END:VCALENDAR
