BEGIN:VCALENDAR
VERSION:2.0
PRODID:-//Markedspartner//HubSpot Event Export//EN
CALSCALE:GREGORIAN
METHOD:PUBLISH
BEGIN:VEVENT
UID:hubspot-2-39126766-177469898975@markedspartner.no
DTSTAMP:20260420T041122Z
DTSTART:20250902T160000Z
DTEND:20250902T183000Z
SUMMARY:Understanding Cultural Differences
END:VEVENT
END:VCALENDAR
