BEGIN:VCALENDAR
VERSION:2.0
PRODID:-//Markedspartner//HubSpot Event Export//EN
CALSCALE:GREGORIAN
METHOD:PUBLISH
BEGIN:VEVENT
UID:hubspot-2-39126766-178521458892@markedspartner.no
DTSTAMP:20260419T192017Z
DTSTART:20250923T160000Z
DTEND:20250923T180000Z
SUMMARY:Private economy and saving tips
END:VEVENT
END:VCALENDAR
