BEGIN:VCALENDAR
VERSION:2.0
PRODID:-//Markedspartner//HubSpot Event Export//EN
CALSCALE:GREGORIAN
METHOD:PUBLISH
BEGIN:VEVENT
UID:hubspot-2-39126766-178582904009@markedspartner.no
DTSTAMP:20260419T164949Z
DTSTART:20251212T110000Z
DTEND:20251212T130000Z
SUMMARY:Julemøtet i Teatret
END:VEVENT
END:VCALENDAR
