BEGIN:VCALENDAR
VERSION:2.0
PRODID:-//Markedspartner//HubSpot Event Export//EN
CALSCALE:GREGORIAN
METHOD:PUBLISH
BEGIN:VEVENT
UID:hubspot-2-39126766-178582909172@markedspartner.no
DTSTAMP:20260419T192126Z
DTSTART:20251014T064500Z
DTEND:20251014T081500Z
SUMMARY:Job search and career: Interview
END:VEVENT
END:VCALENDAR
