BEGIN:VCALENDAR
VERSION:2.0
PRODID:-//Markedspartner//HubSpot Event Export//EN
CALSCALE:GREGORIAN
METHOD:PUBLISH
BEGIN:VEVENT
UID:hubspot-2-39126766-178805130486@markedspartner.no
DTSTAMP:20260419T164922Z
DTSTART:20251023T160000Z
DTEND:20251023T180000Z
SUMMARY:Norwegian pension rights
END:VEVENT
END:VCALENDAR
