BEGIN:VCALENDAR
VERSION:2.0
PRODID:-//Markedspartner//HubSpot Event Export//EN
CALSCALE:GREGORIAN
METHOD:PUBLISH
BEGIN:VEVENT
UID:hubspot-2-39126766-180584432827@markedspartner.no
DTSTAMP:20260419T192126Z
DTSTART:20250819T163000Z
DTEND:20250819T183000Z
SUMMARY:Prepare for the parliamentary elections
END:VEVENT
END:VCALENDAR
