BEGIN:VCALENDAR
VERSION:2.0
PRODID:-//Markedspartner//HubSpot Event Export//EN
CALSCALE:GREGORIAN
METHOD:PUBLISH
BEGIN:VEVENT
UID:hubspot-2-39126766-181130997966@markedspartner.no
DTSTAMP:20260419T192127Z
DTSTART:20251119T073000Z
DTEND:20251119T093000Z
SUMMARY:Styrearbeid som skaper varige verdier
END:VEVENT
END:VCALENDAR
