BEGIN:VCALENDAR
VERSION:2.0
PRODID:-//Markedspartner//HubSpot Event Export//EN
CALSCALE:GREGORIAN
METHOD:PUBLISH
BEGIN:VEVENT
UID:hubspot-2-39126766-181890323656@markedspartner.no
DTSTAMP:20260419T164924Z
DTSTART:20250824T074500Z
DTEND:20250824T154500Z
SUMMARY:Sunday hike from Brusand to Ogna
END:VEVENT
END:VCALENDAR
