BEGIN:VCALENDAR
VERSION:2.0
PRODID:-//Markedspartner//HubSpot Event Export//EN
CALSCALE:GREGORIAN
METHOD:PUBLISH
BEGIN:VEVENT
UID:hubspot-2-39126766-182015148228@markedspartner.no
DTSTAMP:20260419T164923Z
DTSTART:20260326T110000Z
DTEND:20260326T180000Z
SUMMARY:Tabbekonferansen 2026
END:VEVENT
END:VCALENDAR
