BEGIN:VCALENDAR
VERSION:2.0
PRODID:-//Markedspartner//HubSpot Event Export//EN
CALSCALE:GREGORIAN
METHOD:PUBLISH
BEGIN:VEVENT
UID:hubspot-2-39126766-182051206386@markedspartner.no
DTSTAMP:20260420T120004Z
DTSTART:20251113T173000Z
DTEND:20251113T220000Z
SUMMARY:Årets bedrift 2025
END:VEVENT
END:VCALENDAR
