BEGIN:VCALENDAR
VERSION:2.0
PRODID:-//Markedspartner//HubSpot Event Export//EN
CALSCALE:GREGORIAN
METHOD:PUBLISH
BEGIN:VEVENT
UID:hubspot-2-39126766-208282546378@markedspartner.no
DTSTAMP:20260419T192127Z
DTSTART:20251120T163000Z
DTEND:20251120T200000Z
SUMMARY:Treffpunkt Jæren: Førjulstreff i Hvelvet
END:VEVENT
END:VCALENDAR
