BEGIN:VCALENDAR
VERSION:2.0
PRODID:-//Markedspartner//HubSpot Event Export//EN
CALSCALE:GREGORIAN
METHOD:PUBLISH
BEGIN:VEVENT
UID:hubspot-2-39126766-211015203051@markedspartner.no
DTSTAMP:20260419T192016Z
DTSTART:20250829T063000Z
DTEND:20250829T081500Z
SUMMARY:Workshop-for videreutvikling av samarbeidsportal mellom UiS og arbeidslivet i Rogaland
END:VEVENT
END:VCALENDAR
