BEGIN:VCALENDAR
VERSION:2.0
PRODID:-//Markedspartner//HubSpot Event Export//EN
CALSCALE:GREGORIAN
METHOD:PUBLISH
BEGIN:VEVENT
UID:hubspot-2-39126766-214910217408@markedspartner.no
DTSTAMP:20260419T192017Z
DTSTART:20250923T063000Z
DTEND:20250924T060000Z
SUMMARY:AI\, Data\, Robotics Forum: ADRF 2025
END:VEVENT
END:VCALENDAR
