BEGIN:VCALENDAR
VERSION:2.0
PRODID:-//Markedspartner//HubSpot Event Export//EN
CALSCALE:GREGORIAN
METHOD:PUBLISH
BEGIN:VEVENT
UID:hubspot-2-39126766-215480590525@markedspartner.no
DTSTAMP:20260420T041124Z
DTSTART:20250924T073000Z
DTEND:20250924T090000Z
SUMMARY:Want to become a tour guide?
END:VEVENT
END:VCALENDAR
