BEGIN:VCALENDAR
VERSION:2.0
PRODID:-//Markedspartner//HubSpot Event Export//EN
CALSCALE:GREGORIAN
METHOD:PUBLISH
BEGIN:VEVENT
UID:hubspot-2-39126766-215675587809@markedspartner.no
DTSTAMP:20260419T164925Z
DTSTART:20251002T073000Z
DTEND:20251002T090000Z
SUMMARY:Get to know Stavanger?
END:VEVENT
END:VCALENDAR
