BEGIN:VCALENDAR
VERSION:2.0
PRODID:-//Markedspartner//HubSpot Event Export//EN
CALSCALE:GREGORIAN
METHOD:PUBLISH
BEGIN:VEVENT
UID:hubspot-2-39126766-216561545446@markedspartner.no
DTSTAMP:20260419T164950Z
DTSTART:20251210T093000Z
DTEND:20251210T113000Z
SUMMARY:Christmas Workshop
END:VEVENT
END:VCALENDAR
