BEGIN:VCALENDAR
VERSION:2.0
PRODID:-//Markedspartner//HubSpot Event Export//EN
CALSCALE:GREGORIAN
METHOD:PUBLISH
BEGIN:VEVENT
UID:hubspot-2-39126766-216561547509@markedspartner.no
DTSTAMP:20260419T164949Z
DTSTART:20251103T173000Z
DTEND:20251103T193000Z
SUMMARY:From newcomer to community builder
END:VEVENT
END:VCALENDAR
