BEGIN:VCALENDAR
VERSION:2.0
PRODID:-//Markedspartner//HubSpot Event Export//EN
CALSCALE:GREGORIAN
METHOD:PUBLISH
BEGIN:VEVENT
UID:hubspot-2-39126766-217362444504@markedspartner.no
DTSTAMP:20260420T013618Z
DTSTART:20250911T173000Z
DTEND:20250911T213000Z
SUMMARY:Hydrogen Stammtisch Stavanger 
END:VEVENT
END:VCALENDAR
